BEGIN:VCALENDAR
VERSION:2.0
PRODID:-//Museum of Newport Irish History | Newport, Rhode Island - ECPv6.15.20//NONSGML v1.0//EN
CALSCALE:GREGORIAN
METHOD:PUBLISH
X-WR-CALNAME:Museum of Newport Irish History | Newport, Rhode Island
X-ORIGINAL-URL:https://newportirishhistory.org
X-WR-CALDESC:Events for Museum of Newport Irish History | Newport, Rhode Island
REFRESH-INTERVAL;VALUE=DURATION:PT1H
X-Robots-Tag:noindex
X-PUBLISHED-TTL:PT1H
BEGIN:VTIMEZONE
TZID:UTC
BEGIN:STANDARD
TZOFFSETFROM:+0000
TZOFFSETTO:+0000
TZNAME:UTC
DTSTART:20040101T000000
END:STANDARD
END:VTIMEZONE
BEGIN:VEVENT
DTSTART;TZID=UTC:20051201T180000
DTEND;TZID=UTC:20051201T180000
DTSTAMP:20260424T155843
CREATED:20210615T203001Z
LAST-MODIFIED:20210615T203001Z
UID:7631-1133460000-1133460000@newportirishhistory.org
SUMMARY:Paul O'Malley\, Ph.D.\, "Ireland and the Spanish Civil War: A Foreign Policy Racy of Irish Soil"
DESCRIPTION:[vc_row][vc_column width=”1/6″][/vc_column][vc_column width=”2/3″][/vc_column][vc_column width=”1/6″][/vc_column][/vc_row][vc_row][vc_column]The term “Racy” has been used in the past as a way of commending the organization or policy as exhibiting the excellence of the Irish race\, according to Dr. O’Malley. \n[/vc_column][/vc_row]
URL:https://newportirishhistory.org/event/paul-omalley-ph-d-ireland-and-the-spanish-civil-war-a-foreign-policy-racy-of-irish-soil/
CATEGORIES:Fall 2005 - Spring 2006 (4th Annual),Lectures
END:VEVENT
END:VCALENDAR