BEGIN:VCALENDAR
VERSION:2.0
PRODID:-//Museum of Newport Irish History | Newport, Rhode Island - ECPv6.15.20//NONSGML v1.0//EN
CALSCALE:GREGORIAN
METHOD:PUBLISH
X-WR-CALNAME:Museum of Newport Irish History | Newport, Rhode Island
X-ORIGINAL-URL:https://newportirishhistory.org
X-WR-CALDESC:Events for Museum of Newport Irish History | Newport, Rhode Island
REFRESH-INTERVAL;VALUE=DURATION:PT1H
X-Robots-Tag:noindex
X-PUBLISHED-TTL:PT1H
BEGIN:VTIMEZONE
TZID:UTC
BEGIN:STANDARD
TZOFFSETFROM:+0000
TZOFFSETTO:+0000
TZNAME:UTC
DTSTART:20050101T000000
END:STANDARD
END:VTIMEZONE
BEGIN:VEVENT
DTSTART;TZID=UTC:20060420T180000
DTEND;TZID=UTC:20060420T180000
DTSTAMP:20260424T102850
CREATED:20210615T201730Z
LAST-MODIFIED:20210615T201730Z
UID:7621-1145556000-1145556000@newportirishhistory.org
SUMMARY:Maureen Lapan\, Ph.D.\, founding member and officer of the International Berkeley Society\, "Images of Berkeley in Newport: 1729-1732"
DESCRIPTION:[vc_row][vc_column width=”1/6″][/vc_column][vc_column width=”2/3″][/vc_column][vc_column width=”1/6″][/vc_column][/vc_row][vc_row][vc_column][/vc_column][/vc_row]
URL:https://newportirishhistory.org/event/maureen-lapan-ph-d-founding-member-and-officer-of-the-international-berkeley-society-images-of-berkeley-in-newport-1729-1732/
CATEGORIES:Fall 2005 - Spring 2006 (4th Annual),Lectures
END:VEVENT
END:VCALENDAR