BEGIN:VCALENDAR
VERSION:2.0
PRODID:-//Museum of Newport Irish History | Newport, Rhode Island - ECPv6.15.20//NONSGML v1.0//EN
CALSCALE:GREGORIAN
METHOD:PUBLISH
X-WR-CALNAME:Museum of Newport Irish History | Newport, Rhode Island
X-ORIGINAL-URL:https://newportirishhistory.org
X-WR-CALDESC:Events for Museum of Newport Irish History | Newport, Rhode Island
REFRESH-INTERVAL;VALUE=DURATION:PT1H
X-Robots-Tag:noindex
X-PUBLISHED-TTL:PT1H
BEGIN:VTIMEZONE
TZID:UTC
BEGIN:STANDARD
TZOFFSETFROM:+0000
TZOFFSETTO:+0000
TZNAME:UTC
DTSTART:20050101T000000
END:STANDARD
END:VTIMEZONE
BEGIN:VEVENT
DTSTART;TZID=UTC:20061130T180000
DTEND;TZID=UTC:20061130T180000
DTSTAMP:20260424T000754
CREATED:20210615T195629Z
LAST-MODIFIED:20210615T195629Z
UID:7616-1164909600-1164909600@newportirishhistory.org
SUMMARY:Nancy Lusignan Schultz\, Ph.D.\, "McGowan's Tavern\, Paddy Funerals\, and Rossiter's Dog: Irish Factors in the 1834 Attack on the Charlestown\, Mass. Convent"
DESCRIPTION:[vc_row][vc_column width=”1/6″][/vc_column][vc_column width=”2/3″][vc_video link=”https://youtu.be/KtoMOFH8VP0″][/vc_column][vc_column width=”1/6″][/vc_column][/vc_row][vc_row][vc_column]Nancy Lusignan Schultz is professor and coordinator of Graduate Programs in English and America Studies at Salem State College\, Salem\, Mass. She has completed fellowships at Harvard University and the National Endowment for the Humanities\, and is co-editor of: Salem: Place\, Myth and Memory (Northeastern U. Press\, 2005). Professor Lusignan Schultz is also the author of Fire and Roses: The Burning of the Charlestown Convent\, 1834 (Northeastern U. Press\, 2002). Her November 30 talk is titled: McGowan’s Tavern\, Paddy Funerals\, and Rossiter’s Dog: Irish Factors in the 1834 Attack on the Charlestown\, Mass. Convent Prof. Schultz will focus on Irish Factors in the 1834 torching of the Ursuline Convent. Even today in South Boston\, the attack lives so strongly in the imaginations of Irish American residents that many believe it happened only a generation ago. \n[/vc_column][/vc_row]
URL:https://newportirishhistory.org/event/nancy-lusignan-schultz-ph-d-mcgowans-tavern-paddy-funerals-and-rossiters-dog-irish-factors-in-the-1834-attack-on-the-charlestown-mass-convent/
CATEGORIES:Fall 2006 - Spring 2007 (5th Annual),Lectures
END:VEVENT
END:VCALENDAR