BEGIN:VCALENDAR
VERSION:2.0
PRODID:-//Museum of Newport Irish History | Newport, Rhode Island - ECPv6.15.20//NONSGML v1.0//EN
CALSCALE:GREGORIAN
METHOD:PUBLISH
X-ORIGINAL-URL:https://newportirishhistory.org
X-WR-CALDESC:Events for Museum of Newport Irish History | Newport, Rhode Island
REFRESH-INTERVAL;VALUE=DURATION:PT1H
X-Robots-Tag:noindex
X-PUBLISHED-TTL:PT1H
BEGIN:VTIMEZONE
TZID:UTC
BEGIN:STANDARD
TZOFFSETFROM:+0000
TZOFFSETTO:+0000
TZNAME:UTC
DTSTART:20060101T000000
END:STANDARD
END:VTIMEZONE
BEGIN:VEVENT
DTSTART;TZID=UTC:20070228T180000
DTEND;TZID=UTC:20070228T180000
DTSTAMP:20260423T203316
CREATED:20210615T194704Z
LAST-MODIFIED:20210615T194704Z
UID:7614-1172685600-1172685600@newportirishhistory.org
SUMMARY:Denny Lynch\, photographer\, "Returning to Kerry: Photographic sojourn in and around Kerry.”
DESCRIPTION:[vc_row][vc_column width=”1/6″][/vc_column][vc_column width=”2/3″][/vc_column][vc_column width=”1/6″][/vc_column][/vc_row][vc_row][vc_column]A frequent visitor to Ireland\, Denny Lynch has recorded his travels with wonderful and engaging photographs. He received his BS in History and MS in Education from Towson University in Maryland and has taught history in the Baltimore schools for over 30 years. His work has been exhibited in Paris\, Manhattan and Ireland (County Kerry). This is his second lecture for the Museum of Newport Irish History. His Feb. 28 talk is entitled: Returning to Kerry: Photographic sojourn in and around Kerry. \n[/vc_column][/vc_row]
URL:https://newportirishhistory.org/event/denny-lynch-photographer-returning-to-kerry-photographic-sojourn-in-and-around-kerry/
CATEGORIES:Fall 2006 - Spring 2007 (5th Annual),Lectures
END:VEVENT
END:VCALENDAR