BEGIN:VCALENDAR
VERSION:2.0
PRODID:-//Museum of Newport Irish History | Newport, Rhode Island - ECPv6.15.20//NONSGML v1.0//EN
CALSCALE:GREGORIAN
METHOD:PUBLISH
X-ORIGINAL-URL:https://newportirishhistory.org
X-WR-CALDESC:Events for Museum of Newport Irish History | Newport, Rhode Island
REFRESH-INTERVAL;VALUE=DURATION:PT1H
X-Robots-Tag:noindex
X-PUBLISHED-TTL:PT1H
BEGIN:VTIMEZONE
TZID:UTC
BEGIN:STANDARD
TZOFFSETFROM:+0000
TZOFFSETTO:+0000
TZNAME:UTC
DTSTART:20080101T000000
END:STANDARD
END:VTIMEZONE
BEGIN:VEVENT
DTSTART;TZID=UTC:20090219T180000
DTEND;TZID=UTC:20090219T180000
DTSTAMP:20260422T113949
CREATED:20210603T184401Z
LAST-MODIFIED:20210603T184401Z
UID:7357-1235066400-1235066400@newportirishhistory.org
SUMMARY:William J. Matthews\, Ph.D.\, "The Irish Famine (An Gorta Mor) 1845-1849"
DESCRIPTION:[vc_row][vc_column width=”1/6″][/vc_column][vc_column width=”2/3″][/vc_column][vc_column width=”1/6″][/vc_column][/vc_row][vc_row][vc_column]The great Irish famine was a horrific period in Irish history of incredible calamity\, suffering\, and death. The proximal cause of this disaster was the Irish dependence on the potato crop and\, of course\, the subsequent blight. However\, the ensuing disaster caused by the loss of the potato crop was exacerbated by political\, economic\, and social factors which remain part of the debate today. In this talk\, Professor Matthews will explore the famine in the context of British responsibility and the famine’s subsequent connection to Irish nationalism. \nWILLIAM J. MATTHEWS received his Ph.D. in clinical psychology from the University of Connecticut and has been a professor with the University of Massachusetts at Amherst for the last 28 years. Dr. Matthews holds dual American/Irish citizenship and has studied many areas of Irish history\, including the Irish Uprising and Civil War. Dr. Matthews gave a beautifully illustrated lecture entitled “The Life and Times of Michael Collins an Irish Patriot” for the Museum’s 2007-08 lecture series. We welcome Dr. Matthews back for this\, his third speaking engagement with the Museum. \n[/vc_column][/vc_row]
URL:https://newportirishhistory.org/event/william-j-matthews-ph-d-the-irish-famine-an-gorta-mor-1845-1849/
CATEGORIES:2008 - 2009 (7th Annual),Lectures
END:VEVENT
END:VCALENDAR