BEGIN:VCALENDAR
VERSION:2.0
PRODID:-//Museum of Newport Irish History | Newport, Rhode Island - ECPv6.15.20//NONSGML v1.0//EN
CALSCALE:GREGORIAN
METHOD:PUBLISH
X-WR-CALNAME:Museum of Newport Irish History | Newport, Rhode Island
X-ORIGINAL-URL:https://newportirishhistory.org
X-WR-CALDESC:Events for Museum of Newport Irish History | Newport, Rhode Island
REFRESH-INTERVAL;VALUE=DURATION:PT1H
X-Robots-Tag:noindex
X-PUBLISHED-TTL:PT1H
BEGIN:VTIMEZONE
TZID:UTC
BEGIN:STANDARD
TZOFFSETFROM:+0000
TZOFFSETTO:+0000
TZNAME:UTC
DTSTART:20140101T000000
END:STANDARD
END:VTIMEZONE
BEGIN:VEVENT
DTSTART;TZID=UTC:20151112T180000
DTEND;TZID=UTC:20151112T180000
DTSTAMP:20260420T132648
CREATED:20210602T201123Z
LAST-MODIFIED:20210602T235934Z
UID:7086-1447351200-1447351200@newportirishhistory.org
SUMMARY:Edward T. McCarron\, Ph.D. - "Facing the Atlantic: Ireland\, Newfoundland and Outmigration to New England\, 1790-1860"
DESCRIPTION:[vc_row][vc_column width=”1/6″][/vc_column][vc_column width=”2/3″][vc_video link=”https://www.youtube.com/watch?v=1QOEwILWBXo”][/vc_column][vc_column width=”1/6″][/vc_column][/vc_row][vc_row][vc_column]Newfoundland was an early destination for Irish immigrants during the eighteenth and early nineteenth centuries. The beginnings of this migration were deeply embedded in the growth of the Atlantic cod fishing trade which saw many Irish venture to Newfoundland as seasonal fishermen. As Arthur Young recounted in 1776\, “The number of people who go passengers in the Newfoundland ships is amazing; from 60 to 80 ships\, and from 3000 to 5000 annually.” By 1800 a permanent pattern of Irish settlement had emerged. This migration was remarkable in its geographical origins – with most voyagers hailing from the southeast of Ireland. \nEconomic circumstances propelled some of these Newfoundland migrants (or their children) to eventually move on to the North American mainland. These “two boaters” left a footprint in early Irish communities particularly in the Maritime Provinces of Canada\, and those of coastal New England. \nThis illustrated lecture will explore the homeland origins and Atlantic experience of Irish who journeyed to Newfoundland – with particular emphasis on those leaving from south Kilkenny. We will also investigate outmigration from Newfoundland to New England – highlighting this stepwise movement through several case studies of Irish emigrants to Maine during the nineteenth century. \nEd McCarron is an associate professor of history at Stonehill College. He is originally from Pennsylvania\, and currently resides in Maine\, but over the years he has lived in a variety of places – from the Florida Panhandle to a rural village in southeast Ireland. Perhaps for this reason\, his research interests have focused on place\, community and the historical landscape\, especially viewed through the lens and contours of Irish immigrant communities. His publications have included articles ranging from an exploration of early Irish settlements in Maine\, to a regional case study of Inistioge\, County Kilkenny that appeared in the Atlas of the Irish Rural Landscape (2nd edition). With his wife Fidelma\, he is working on a historical atlas of the Nore Tidewater region of County Kilkenny – a river valley that has witnessed an ebb and flow of migration over the centuries. The Museum welcomes Prof. McCarron back for this\, his second talk to our membership. \n[/vc_column][/vc_row]
URL:https://newportirishhistory.org/event/edward-t-mccarron-ph-d-facing-the-atlantic-ireland-newfoundland-and-outmigration-to-new-england-1790-1860/
CATEGORIES:2015-2016 Series (14th Annual),Lectures
END:VEVENT
END:VCALENDAR