BEGIN:VCALENDAR
VERSION:2.0
PRODID:-//Museum of Newport Irish History | Newport, Rhode Island - ECPv6.15.20//NONSGML v1.0//EN
CALSCALE:GREGORIAN
METHOD:PUBLISH
X-WR-CALNAME:Museum of Newport Irish History | Newport, Rhode Island
X-ORIGINAL-URL:https://newportirishhistory.org
X-WR-CALDESC:Events for Museum of Newport Irish History | Newport, Rhode Island
REFRESH-INTERVAL;VALUE=DURATION:PT1H
X-Robots-Tag:noindex
X-PUBLISHED-TTL:PT1H
BEGIN:VTIMEZONE
TZID:UTC
BEGIN:STANDARD
TZOFFSETFROM:+0000
TZOFFSETTO:+0000
TZNAME:UTC
DTSTART:20150101T000000
END:STANDARD
END:VTIMEZONE
BEGIN:VEVENT
DTSTART;TZID=UTC:20161025T160000
DTEND;TZID=UTC:20161025T160000
DTSTAMP:20260420T220751
CREATED:20210602T191916Z
LAST-MODIFIED:20210602T235635Z
UID:7048-1477411200-1477411200@newportirishhistory.org
SUMMARY:Steve Marino: - "Fort Adams and the Irish"
DESCRIPTION:[vc_row][vc_column width=”1/6″][/vc_column][vc_column width=”2/3″][/vc_column][vc_column width=”1/6″][/vc_column][/vc_row][vc_row][vc_column]On April 8\, 1824\, the Newport Mercury announced\, “We learn\, that surveys are now being completed by an officer of the Engineer Corps\, preparatory to commencing and extending the works at Fort Adams\, (Brenton’s Point\,) in this harbor.” Over the next 20 years\, the construction of this massive\, state of the art fortification would change the economically depressed city both culturally and economically and would establish the foundation of the Irish-Catholic community that exists in Newport today. \nWho were these early workers? Where did they live? How did they live? How did Newport react to these newcomers? By examining articles in contemporary newspapers\, church records\, census data and other primary documents we will start a conversation on this important but often misunderstood time. Please join us as we begin to shed light on this foundational era of Newport Irish History. \nSTEVE MARINO taught history in Connecticut for 35 years and retired to Newport. He has been giving tours at Fort Adams since 2008. He is also on the Board of the Museum of Newport Irish History. He has degrees from Williams College\, Brown University and the Hartford Seminary. \n[/vc_column][/vc_row]
URL:https://newportirishhistory.org/event/steve-marino-fort-adams-and-the-irish/
CATEGORIES:2016-2017 Series (15th Annual),Lectures
END:VEVENT
END:VCALENDAR