BEGIN:VCALENDAR
VERSION:2.0
PRODID:-//Museum of Newport Irish History | Newport, Rhode Island - ECPv6.15.20//NONSGML v1.0//EN
CALSCALE:GREGORIAN
METHOD:PUBLISH
X-ORIGINAL-URL:https://newportirishhistory.org
X-WR-CALDESC:Events for Museum of Newport Irish History | Newport, Rhode Island
REFRESH-INTERVAL;VALUE=DURATION:PT1H
X-Robots-Tag:noindex
X-PUBLISHED-TTL:PT1H
BEGIN:VTIMEZONE
TZID:UTC
BEGIN:STANDARD
TZOFFSETFROM:+0000
TZOFFSETTO:+0000
TZNAME:UTC
DTSTART:20170101T000000
END:STANDARD
END:VTIMEZONE
BEGIN:VEVENT
DTSTART;TZID=UTC:20180926T180000
DTEND;TZID=UTC:20180926T180000
DTSTAMP:20260421T201115
CREATED:20210601T212451Z
LAST-MODIFIED:20210602T235425Z
UID:7030-1537984800-1537984800@newportirishhistory.org
SUMMARY:Christine Kinealy\, Ph.D.\, "Frederick Douglass and Ireland"
DESCRIPTION:[vc_row][vc_column width=”1/6″][/vc_column][vc_column width=”2/3″][/vc_column][vc_column width=”1/6″][/vc_column][/vc_row][vc_row][vc_column]In August 1845\, a young fugitive slave arrived in Dublin to oversee the publication of his bestselling life story\, The Narrative of Frederick Douglass\, an American Slave\, Written by Himself. Seven years earlier\, Douglass had escaped from slavery\, but the Fugitive Slave Act meant that he remained in danger of being captured and returned to his ‘master.’ His work as a lecturer for the American Anti-Slavery Society and the success of his Narrative increased this risk and so he was persuaded to travel to Britain\, where he would be safe. However\, an Irish Quaker printer\, Richard Webb\, who was also an ardent abolitionist\, offered to reprint the book\, and thus provide Douglass with an income. So\, two days after arriving in the transatlantic port of Liverpool\, Douglass travelled to Dublin. He had intended to stay for four days\, but remained in the country for four months\, describing these four months as “the happiest times” in his life. Moreover\, for the first time in his life\, he felt truly free and like “a man\, and not a color.” \nThis presentation will explore Douglas’s time in Ireland and his life-long fascination with the country and its people. \nCHRISTINE KINEALY is the founding director of the Ireland’s Great Hunger Institute at Quinnipiac University. She is an authority on Irish history and is the author of 20 books and numerous scholarly articles on Irish and Irish American history. In 2011\, Kinealy was named “one of the most influential Irish Americans” by Irish America magazine\, and\, in 2014\, “Woman of the Year” by the Irish American Heritage and Culture Committee of the New York Department of Education. Her most recent work is Frederick Douglass and Ireland. In His Own Words (2 vols\, Routledge\, 2018). She is also curator of a year-long exhibition at Quinnipiac University entitled Frederick Douglass in Ireland: “The Black O’Connell.” \n[/vc_column][/vc_row]
URL:https://newportirishhistory.org/event/christine-kinealy-ph-d-frederick-douglass-and-ireland/
CATEGORIES:2018-2019 Series (17th Annual),Lectures
END:VEVENT
END:VCALENDAR