BEGIN:VCALENDAR
VERSION:2.0
PRODID:-//Museum of Newport Irish History | Newport, Rhode Island - ECPv6.15.20//NONSGML v1.0//EN
CALSCALE:GREGORIAN
METHOD:PUBLISH
X-WR-CALNAME:Museum of Newport Irish History | Newport, Rhode Island
X-ORIGINAL-URL:https://newportirishhistory.org
X-WR-CALDESC:Events for Museum of Newport Irish History | Newport, Rhode Island
REFRESH-INTERVAL;VALUE=DURATION:PT1H
X-Robots-Tag:noindex
X-PUBLISHED-TTL:PT1H
BEGIN:VTIMEZONE
TZID:UTC
BEGIN:STANDARD
TZOFFSETFROM:+0000
TZOFFSETTO:+0000
TZNAME:UTC
DTSTART:20190101T000000
END:STANDARD
END:VTIMEZONE
BEGIN:VEVENT
DTSTART;TZID=UTC:20201106T180000
DTEND;TZID=UTC:20201106T180000
DTSTAMP:20260422T190522
CREATED:20210601T191658Z
LAST-MODIFIED:20210615T185136Z
UID:7010-1604685600-1604685600@newportirishhistory.org
SUMMARY:Joseph Lennon\, PhD\, "Famine Memories: Terence MacSwiney's 1920 Hunger Strike"
DESCRIPTION:[vc_row][vc_column width=”1/6″][/vc_column][vc_column width=”2/3″][vc_video link=”https://www.youtube.com/watch?v=pvABy5JRUNI”][/vc_column][vc_column width=”1/6″][/vc_column][/vc_row][vc_row][vc_column]One hundred years ago\, in 1920\, daily newspapers around the world told the story of the starvation of a man. That man\, Terence MacSwiney\, the Lord Mayor of Cork\, eventually died in England’s Brixton prison after a seventy-four day fast. The release of his corpse\, his funeral\, and a series of international commemorations held the attention of the world’s modern press — and fired the imagination of Irish writers and Irish emigrants around the world. This presentation will explore the international dynamics of fasting traditions\, the hunger strike and its impact on politics. \nThe death of Terence MacSwiney on 25 October 1920 spurred an unprecedented level of public mourning in the Irish diaspora; as such\, it remains a unique event in Irish and Irish-American history. Over a million people\, in Ireland and around the world\, gathered on streets\, in churches\, and in stadiums to mourn the famished body of this Republican mayor. The evocation of hunger and starvation at a time when Ireland was at war with the United Kingdom tapped into deep memories of Irish famine\, particularly the catastrophic Famine of 1845-52 during which around one million people died and millions more emigrated. Following the outpouring of public grief\, the United States and other nations began pressing London to resolve the dispute. The 1920 memorials thus signal a turning point in the Anglo-Irish War\, illustrating the power of hunger on the Irish imagination. \nJOSEPH LENNON\, PhD\, is the Emily C. Riley Director of the Center for Irish Studies\, Associate Dean in the College of Liberal Arts and Sciences\, and Professor of English at Villanova University. He writes on Irish literature and culture\, his present research being on the pre-history of the hunger strike. His first book\, Irish Orientalism\, won the Donald Murphy Prize from the American Conference for Irish Studies in 2004 and he has recently published scholarship in the Irish University Review and New Hibernia Review. He also publishes poetry in journals such as Poetry Ireland and Natural Bridge and has a book of poems\, Fell Hunger\, with Salmon Poetry\, based in County Clare. \n[/vc_column][/vc_row]
URL:https://newportirishhistory.org/event/joseph-lennon-phd-famine-memories-terence-macswineys-1920-hunger-strike/
CATEGORIES:2020-2021 Series (19th Annual),Lectures
END:VEVENT
END:VCALENDAR