BEGIN:VCALENDAR
VERSION:2.0
PRODID:-//Museum of Newport Irish History | Newport, Rhode Island - ECPv6.15.20//NONSGML v1.0//EN
CALSCALE:GREGORIAN
METHOD:PUBLISH
X-WR-CALNAME:Museum of Newport Irish History | Newport, Rhode Island
X-ORIGINAL-URL:https://newportirishhistory.org
X-WR-CALDESC:Events for Museum of Newport Irish History | Newport, Rhode Island
REFRESH-INTERVAL;VALUE=DURATION:PT1H
X-Robots-Tag:noindex
X-PUBLISHED-TTL:PT1H
BEGIN:VTIMEZONE
TZID:UTC
BEGIN:STANDARD
TZOFFSETFROM:+0000
TZOFFSETTO:+0000
TZNAME:UTC
DTSTART:20030101T000000
END:STANDARD
END:VTIMEZONE
BEGIN:VEVENT
DTSTART;TZID=UTC:20041013T180000
DTEND;TZID=UTC:20041013T180000
DTSTAMP:20260425T114823
CREATED:20210615T204441Z
LAST-MODIFIED:20210615T204441Z
UID:7646-1097690400-1097690400@newportirishhistory.org
SUMMARY:Dr. Lawrence Arnold of Dublin\, the author of numerous articles dealing with seventeenth century Irish History\, and author of The Restoration Land Settlement in County Dublin 1660-1668\, spoke about the events in Irish history leading up to the Cromwellian war and the settlement following that war.
DESCRIPTION:[vc_row][vc_column width=”1/6″][/vc_column][vc_column width=”2/3″][/vc_column][vc_column width=”1/6″][/vc_column][/vc_row][vc_row][vc_column][/vc_column][/vc_row]
URL:https://newportirishhistory.org/event/dr-lawrence-arnold-of-dublin-the-author-of-numerous-articles-dealing-with-seventeenth-century-irish-history-and-author-of-the-restoration-land-settlement-in-county-dublin-1660-1668-spoke-about-the/
CATEGORIES:Fall 2004 - Spring 2005 (3rd Annual),Lectures
END:VEVENT
END:VCALENDAR