BEGIN:VCALENDAR
VERSION:2.0
PRODID:-//Museum of Newport Irish History | Newport, Rhode Island - ECPv6.15.20//NONSGML v1.0//EN
CALSCALE:GREGORIAN
METHOD:PUBLISH
X-WR-CALNAME:Museum of Newport Irish History | Newport, Rhode Island
X-ORIGINAL-URL:https://newportirishhistory.org
X-WR-CALDESC:Events for Museum of Newport Irish History | Newport, Rhode Island
REFRESH-INTERVAL;VALUE=DURATION:PT1H
X-Robots-Tag:noindex
X-PUBLISHED-TTL:PT1H
BEGIN:VTIMEZONE
TZID:UTC
BEGIN:STANDARD
TZOFFSETFROM:+0000
TZOFFSETTO:+0000
TZNAME:UTC
DTSTART:20040101T000000
END:STANDARD
END:VTIMEZONE
BEGIN:VEVENT
DTSTART;TZID=UTC:20051020T180000
DTEND;TZID=UTC:20051020T180000
DTSTAMP:20260424T170805
CREATED:20210615T203304Z
LAST-MODIFIED:20210615T203304Z
UID:7639-1129831200-1129831200@newportirishhistory.org
SUMMARY:William Matthews\, Ph.D.\, The Irish Rising of 1916 and how it led to the 1919-21 insurrection against Britain.
DESCRIPTION:[vc_row][vc_column width=”1/6″][/vc_column][vc_column width=”2/3″][/vc_column][vc_column width=”1/6″][/vc_column][/vc_row][vc_row][vc_column][/vc_column][/vc_row]
URL:https://newportirishhistory.org/event/william-matthews-ph-d-the-irish-rising-of-1916-and-how-it-led-to-the-1919-21-insurrection-against-britain/
CATEGORIES:Fall 2005 - Spring 2006 (4th Annual),Lectures
END:VEVENT
END:VCALENDAR