BEGIN:VCALENDAR
VERSION:2.0
PRODID:-//Museum of Newport Irish History | Newport, Rhode Island - ECPv6.15.20//NONSGML v1.0//EN
CALSCALE:GREGORIAN
METHOD:PUBLISH
X-ORIGINAL-URL:https://newportirishhistory.org
X-WR-CALDESC:Events for Museum of Newport Irish History | Newport, Rhode Island
REFRESH-INTERVAL;VALUE=DURATION:PT1H
X-Robots-Tag:noindex
X-PUBLISHED-TTL:PT1H
BEGIN:VTIMEZONE
TZID:UTC
BEGIN:STANDARD
TZOFFSETFROM:+0000
TZOFFSETTO:+0000
TZNAME:UTC
DTSTART:20070101T000000
END:STANDARD
END:VTIMEZONE
BEGIN:VEVENT
DTSTART;TZID=UTC:20080310T180000
DTEND;TZID=UTC:20080310T180000
DTSTAMP:20260423T012125
CREATED:20210615T191455Z
LAST-MODIFIED:20210615T191455Z
UID:7606-1205172000-1205172000@newportirishhistory.org
SUMMARY:Dr. Brian Trainor\, Ulster Historical Foundation\, "Emigration from Ulster to North America in the 18th Century"
DESCRIPTION:[vc_row][vc_column width=”1/6″][/vc_column][vc_column width=”2/3″][/vc_column][vc_column width=”1/6″][/vc_column][/vc_row][vc_row][vc_column][/vc_column][/vc_row]
URL:https://newportirishhistory.org/event/dr-brian-trainor-ulster-historical-foundation-emigration-from-ulster-to-north-america-in-the-18th-century/
CATEGORIES:Fall 2007 - Spring 2008 (6th Annual),Lectures
END:VEVENT
END:VCALENDAR