BEGIN:VCALENDAR
VERSION:2.0
PRODID:-//Museum of Newport Irish History | Newport, Rhode Island - ECPv6.15.20//NONSGML v1.0//EN
CALSCALE:GREGORIAN
METHOD:PUBLISH
X-WR-CALNAME:Museum of Newport Irish History | Newport, Rhode Island
X-ORIGINAL-URL:https://newportirishhistory.org
X-WR-CALDESC:Events for Museum of Newport Irish History | Newport, Rhode Island
REFRESH-INTERVAL;VALUE=DURATION:PT1H
X-Robots-Tag:noindex
X-PUBLISHED-TTL:PT1H
BEGIN:VTIMEZONE
TZID:UTC
BEGIN:STANDARD
TZOFFSETFROM:+0000
TZOFFSETTO:+0000
TZNAME:UTC
DTSTART:20080101T000000
END:STANDARD
END:VTIMEZONE
BEGIN:VEVENT
DTSTART;TZID=UTC:20090303T180000
DTEND;TZID=UTC:20090303T180000
DTSTAMP:20260422T082725
CREATED:20210603T182309Z
LAST-MODIFIED:20210603T182309Z
UID:7335-1236103200-1236103200@newportirishhistory.org
SUMMARY:Denny Lynch\, Photographer\, MS\, BS\, "The Battle of Baltimore\, September 1814"
DESCRIPTION:[vc_row][vc_column width=”1/6″][/vc_column][vc_column width=”2/3″][/vc_column][vc_column width=”1/6″][/vc_column][/vc_row][vc_row][vc_column]Photographer and Baltimore native\, Denny Lynch will share his fascinating slide illustrated talk about the Battle of Baltimore. It was in September of 1814 that American soldiers stood up once more to one of Europe’s great military powers. Many of these soldiers were Irish. With his photographic images\, Denny will highlight the main events and sites that are associated with this decisive engagement. Join Museum members and friends for this visual tour of the battle that inspired the writing of the “Star-Spangled Banner”. \nDENNY LYNCH has travelled extensively throughout Europe\, the Middle East and Central America and has recorded his many travels with wonderful and engaging photographs. His work has been exhibited for many years both here and in Europe\, with examples part of the permanent collections of the City of New York and the New York Historical Society. A frequent visitor to Ireland\, much of Denny’s work has been focused on Irish history and culture\, and has been exhibited in County Cavan\, County Monagan and County Kerry’s Heritage Center. Denny received his BS in History and MS in Education from Towson University in Maryland\, and he taught history in the Baltimore schools for over 30 years before retiring recently to focus on his photography. This is his third lecture for the Museum of Newport Irish History. \n[/vc_column][/vc_row]
URL:https://newportirishhistory.org/event/denny-lynch-photographer-ms-bs-the-battle-of-baltimore-september-1814/
CATEGORIES:2008 - 2009 (7th Annual),Lectures
END:VEVENT
BEGIN:VEVENT
DTSTART;TZID=UTC:20090309T180000
DTEND;TZID=UTC:20090309T180000
DTSTAMP:20260422T082725
CREATED:20210603T182829Z
LAST-MODIFIED:20210603T182829Z
UID:7341-1236621600-1236621600@newportirishhistory.org
SUMMARY:John F. Quinn\, Ph.D.\, "The Rise of Catholicism in Newport\, 1880-1950" (an "encore” presentation hosted by Cluny School\, 75 Brenton Road\, Newport)
DESCRIPTION:[vc_row][vc_column width=”1/6″][/vc_column][vc_column width=”2/3″][/vc_column][vc_column width=”1/6″][/vc_column][/vc_row][vc_row][vc_column]In 1800 there were scarcely any Catholics in Newport\, but by the mid-19th Century their numbers had risen dramatically\, driven by immigration from Ireland. By 1880\, the city’s one Catholic parish had grown so large that it had to be divided. Over the next seven decades\, the Catholic Church continued to expand its presence in Newport\, with the establishment of two more parishes\, several convents\, four elementary schools\, an orphanage\, two rest homes\, a retreat house and a college. Many of these establishments were housed in what had once been the mansions of the city’s summer colonists. By 1950\, Catholicism had become a dominant force in the city by the Sea. \n[/vc_column][/vc_row]
URL:https://newportirishhistory.org/event/john-f-quinn-ph-d-the-rise-of-catholicism-in-newport-1880-1950-an-encore-presentation-hosted-by-cluny-school-75-brenton-road-newport/
CATEGORIES:2008 - 2009 (7th Annual),Lectures
END:VEVENT
END:VCALENDAR