BEGIN:VCALENDAR
VERSION:2.0
PRODID:-//Museum of Newport Irish History | Newport, Rhode Island - ECPv6.15.20//NONSGML v1.0//EN
CALSCALE:GREGORIAN
METHOD:PUBLISH
X-ORIGINAL-URL:https://newportirishhistory.org
X-WR-CALDESC:Events for Museum of Newport Irish History | Newport, Rhode Island
REFRESH-INTERVAL;VALUE=DURATION:PT1H
X-Robots-Tag:noindex
X-PUBLISHED-TTL:PT1H
BEGIN:VTIMEZONE
TZID:UTC
BEGIN:STANDARD
TZOFFSETFROM:+0000
TZOFFSETTO:+0000
TZNAME:UTC
DTSTART:20080101T000000
END:STANDARD
END:VTIMEZONE
BEGIN:VEVENT
DTSTART;TZID=UTC:20090416T180000
DTEND;TZID=UTC:20090416T180000
DTSTAMP:20260422T065958
CREATED:20210603T181657Z
LAST-MODIFIED:20210603T181657Z
UID:7324-1239904800-1239904800@newportirishhistory.org
SUMMARY:Edward T. McCarron\, Ph.D.\, "From the Nore Valley to North America: Migrations from the Parish of Inistioge\, County Kilkenny"
DESCRIPTION:[vc_row][vc_column width=”1/6″][/vc_column][vc_column width=”2/3″][/vc_column][vc_column width=”1/6″][/vc_column][/vc_row][vc_row][vc_column]Professor McCarron received his B.A. from Drew University\, his M.A. from Florida State University\, and his Ph.D. from the University of New Hampshire. His courses at Stonehill include “Irish-American Experience”; “The Immigrant Experience in American History” and “Ireland: From Colony to Nation State”. Dr. McCarron has written numerous articles including “Altered States: Turone Migration to Providence\, Rhode Island 1820-1870”\, and “A Brave New World: The Irish Agrarian Colony of Benedicta\, Maine in the 1830s”. \n[/vc_column][/vc_row]
URL:https://newportirishhistory.org/event/edward-t-mccarron-ph-d-from-the-nore-valley-to-north-america-migrations-from-the-parish-of-inistioge-county-kilkenny/
CATEGORIES:2008 - 2009 (7th Annual),Lectures
END:VEVENT
END:VCALENDAR