BEGIN:VCALENDAR
VERSION:2.0
PRODID:-//Museum of Newport Irish History | Newport, Rhode Island - ECPv6.15.20//NONSGML v1.0//EN
CALSCALE:GREGORIAN
METHOD:PUBLISH
X-WR-CALNAME:Museum of Newport Irish History | Newport, Rhode Island
X-ORIGINAL-URL:https://newportirishhistory.org
X-WR-CALDESC:Events for Museum of Newport Irish History | Newport, Rhode Island
REFRESH-INTERVAL;VALUE=DURATION:PT1H
X-Robots-Tag:noindex
X-PUBLISHED-TTL:PT1H
BEGIN:VTIMEZONE
TZID:UTC
BEGIN:STANDARD
TZOFFSETFROM:+0000
TZOFFSETTO:+0000
TZNAME:UTC
DTSTART:20150101T000000
END:STANDARD
END:VTIMEZONE
BEGIN:VEVENT
DTSTART;TZID=UTC:20160920T180000
DTEND;TZID=UTC:20160920T180000
DTSTAMP:20260420T191147
CREATED:20210602T192743Z
LAST-MODIFIED:20210602T235819Z
UID:7061-1474394400-1474394400@newportirishhistory.org
SUMMARY:Margaret Lynch-Brennan\, Ph.D.\, Public Scholar for New York Council for the Humanities: "The Irish Bridget: Irish Immigrant Women in Domestic Service in America\, 1840-1930"
DESCRIPTION:[vc_row][vc_column width=”1/6″][/vc_column][vc_column width=”2/3″][/vc_column][vc_column width=”1/6″][/vc_column][/vc_row][vc_row][vc_column]Who was the Irish Bridget? What relevance does her story have to the history of Irish immigration to America? Learn the answers to these questions in Dr. Margaret Lynch-Brennan’s presentation “The Irish Bridget: Irish Immigrant Women in Domestic Service in America\, 1840-1930” which is based on her book of the same name. \nThe young Irish immigrant girls who labored as cooks\, maids and nannies in middle and upper class homes in urban America were once the stock figures of ridicule in popular American magazines such as Harper’s Weekly. Dr. Lynch-Brennan will use photographs and personal letters the Irish Bridget’s wrote to one another to give insight into their lives. She will discuss their work life\, their social life\, the impact they had on Irish-American life\, and their contribution to American ethnic history\, labor history and women’s history. Copies of the book will be available for signature and sale following the talk. \nMARGARET LYNCH-BRENNAN is currently a Public Scholar for the New York Council for the Humanities. She earned a Ph.D. in American history from the University at Albany\, State University of New York. She has given presentations in Ireland\, Australia\, Germany and throughout the United States. She worked with the Lower East Side Tenement House Museum in New York City as a consultant on the interpretation of Irish immigrant Bridget Meehan Moore in the Museum’s Moore family tenement. In addition to “The Irish Bridget\,” Dr. Lynch-Brennan is the author of chapters in three other books and two journals. She taught at the elementary\, secondary\, undergraduate and graduate levels\, and retired from the New York State Education Department after 30 years of service. She lives near Albany\, New York. \n[/vc_column][/vc_row]
URL:https://newportirishhistory.org/event/margaret-lynch-brennan-ph-d-public-scholar-for-new-york-council-for-the-humanities-the-irish-bridget-irish-immigrant-women-in-domestic-service-in-america-1840-1930/
CATEGORIES:2016-2017 Series (15th Annual),Lectures
END:VEVENT
END:VCALENDAR