BEGIN:VCALENDAR
VERSION:2.0
PRODID:-//Museum of Newport Irish History | Newport, Rhode Island - ECPv6.15.20//NONSGML v1.0//EN
CALSCALE:GREGORIAN
METHOD:PUBLISH
X-ORIGINAL-URL:https://newportirishhistory.org
X-WR-CALDESC:Events for Museum of Newport Irish History | Newport, Rhode Island
REFRESH-INTERVAL;VALUE=DURATION:PT1H
X-Robots-Tag:noindex
X-PUBLISHED-TTL:PT1H
BEGIN:VTIMEZONE
TZID:UTC
BEGIN:STANDARD
TZOFFSETFROM:+0000
TZOFFSETTO:+0000
TZNAME:UTC
DTSTART:20170101T000000
END:STANDARD
END:VTIMEZONE
BEGIN:VEVENT
DTSTART;TZID=UTC:20181128T180000
DTEND;TZID=UTC:20181128T180000
DTSTAMP:20260421T215329
CREATED:20210601T211949Z
LAST-MODIFIED:20210602T235417Z
UID:7028-1543428000-1543428000@newportirishhistory.org
SUMMARY:Tom Foley\, M.A. Candidate\, University of Rhode Island\, "The Emmet Guards of Worcester\, Mass."
DESCRIPTION:[vc_row][vc_column width=”1/6″][/vc_column][vc_column width=”2/3″][/vc_column][vc_column width=”1/6″][/vc_column][/vc_row][vc_row][vc_column]On September 20th\, 1803\, twenty-five-year-old Robert Emmet was executed for leading an abortive Irish rebellion; his grave was unmarked to erase his name from history. At his sentencing\, a stoic Emmet delivered one of the most memorable speeches of the 19th century\, asking the world to leave his name and his tomb in obscurity until “my country takes her place among the nations of the earth. Then\, and not till then\, let my epitaph be written.” Rather than vanish from history\, Emmet became a potent symbol of egalitarianism and the struggle for Irish liberation\, especially for Irish-Americans. \nA generation after Emmet’s death\, 56 Irish immigrants formed an independent militia company in Worcester which would become known as the Emmet Guards. Its officers swore an oath to defend Massachusetts\, but the company had other unofficial purposes: to protect the rights of the Irish in Worcester and to facilitate\, if possible\, the restoration of Ireland to her rightful “place among the nations of the earth.” Though few if any of these original “Emmet’s” would ever return to Ireland to fight for independence\, the company was a source of ethnic pride and solidarity for the next 5 generations of Worcester Irish. The Emmet Guards of Worcester would serve with distinction in the American Civil War\, Spanish American War\, and World War One. \nThis presentation will cover Robert Emmet and his legacy\, the origin of the Emmet Guards\, and the company’s service in France (1917-18)\, concluding with the post-war Irish independence movement in Worcester. It will also touch on other units with the same or similar moniker\, such as the Emmet Guards of Providence\, RI\, and the Robert Emmet Guards of Newport\, RI. \nTOM FOLEY is a native of Westerly\, RI\, and is the great-grandson of Major General Thomas F. Foley\, Captain of the Emmet Guards from 1912 – 1918. Tom received his B.A. in History from Providence College and is now a graduate student at the University of Rhode Island (M.A.\, History\, projected 2021). This is a presentation of research collected in preparation for Tom’s master’s thesis. \n[/vc_column][/vc_row]
URL:https://newportirishhistory.org/event/tom-foley-m-a-candidate-university-of-rhode-island-the-emmet-guards-of-worcester-mass/
CATEGORIES:2018-2019 Series (17th Annual),Lectures
END:VEVENT
END:VCALENDAR