BEGIN:VCALENDAR
VERSION:2.0
PRODID:-//Museum of Newport Irish History | Newport, Rhode Island - ECPv6.15.20//NONSGML v1.0//EN
CALSCALE:GREGORIAN
METHOD:PUBLISH
X-WR-CALNAME:Museum of Newport Irish History | Newport, Rhode Island
X-ORIGINAL-URL:https://newportirishhistory.org
X-WR-CALDESC:Events for Museum of Newport Irish History | Newport, Rhode Island
REFRESH-INTERVAL;VALUE=DURATION:PT1H
X-Robots-Tag:noindex
X-PUBLISHED-TTL:PT1H
BEGIN:VTIMEZONE
TZID:UTC
BEGIN:STANDARD
TZOFFSETFROM:+0000
TZOFFSETTO:+0000
TZNAME:UTC
DTSTART:20180101T000000
END:STANDARD
END:VTIMEZONE
BEGIN:VEVENT
DTSTART;TZID=UTC:20190926T180000
DTEND;TZID=UTC:20190926T180000
DTSTAMP:20260422T082725
CREATED:20210601T203516Z
LAST-MODIFIED:20210603T003914Z
UID:7020-1569520800-1569520800@newportirishhistory.org
SUMMARY:Christopher Klein\, "When the Irish Invaded Canada: The Incredible True Story of the Civil War Veterans Who Fought for Ireland's Freedom"
DESCRIPTION:[vc_row][vc_column width=”1/6″][/vc_column][vc_column width=”2/3″][vc_video link=”https://www.youtube.com/watch?v=DxECkySmBCU&t=120s”][/vc_column][vc_column width=”1/6″][/vc_column][/vc_row][vc_row][vc_column]Did you know that after the Civil War an Irish-American army attacked Canada with the plan of holding it hostage and ransoming it for Ireland’s independence? It is no blarney. The self-proclaimed Irish Republican Army invaded Canada not just once\, but five times between 1866 and 1871 in what are known collectively as the Fenian Raids. \nIn When the Irish Invaded Canada: The Incredible True Story of the Civil War Veterans Who Fought for Ireland’s Freedom (Doubleday\, March 2019)\, author Christopher Klein tells the outrageous story of a band of Irish rebels who fled the Great Hunger\, fought for both the Union and Confederacy in the Civil War\, and then united to undertake one of the most fantastical missions in military history. With the tacit support of the U.S. government and inspired by a previous generation of successful American revolutionaries\, this motley group managed to seize a piece of America’s northern neighbor\, if only for a matter of days\, and constructed a transatlantic framework that would prove essential to the establishment of the Irish Republic decades later. \nKlein’s illustrated lecture will include images from this little-known coda to the Civil War. Copies of his book will be available for signature and sale after the talk ($30\, hardcover). \nCHRISTOPHER KLEIN is the author of four books\, including Strong Boy: The Life and Times of John L. Sullivan\, America’s First Sports Hero\, The Die-Hard Sports Fan’s Guide to Boston\, and Discovering the Boston Harbor Islands. A frequent contributor to History.com\, the web site of the History Channel\, Christopher has also written for The Boston Globe\, The New York Times\, National Geographic Traveler\, Harvard Magazine\, Smithsonian.com\, and AmericanHeritage.com. He lives in Andover\, Massachusetts. More at www.christopherklein.com. \n[/vc_column][/vc_row]
URL:https://newportirishhistory.org/event/christopher-klein-when-the-irish-invaded-canada-the-incredible-true-story-of-the-civil-war-veterans-who-fought-for-irelands-freedom/
CATEGORIES:2019-2020 Series (18th Annual),Lectures
END:VEVENT
END:VCALENDAR