BEGIN:VCALENDAR
VERSION:2.0
PRODID:-//Museum of Newport Irish History | Newport, Rhode Island - ECPv6.15.20//NONSGML v1.0//EN
CALSCALE:GREGORIAN
METHOD:PUBLISH
X-ORIGINAL-URL:https://newportirishhistory.org
X-WR-CALDESC:Events for Museum of Newport Irish History | Newport, Rhode Island
REFRESH-INTERVAL;VALUE=DURATION:PT1H
X-Robots-Tag:noindex
X-PUBLISHED-TTL:PT1H
BEGIN:VTIMEZONE
TZID:UTC
BEGIN:STANDARD
TZOFFSETFROM:+0000
TZOFFSETTO:+0000
TZNAME:UTC
DTSTART:20190101T000000
END:STANDARD
END:VTIMEZONE
BEGIN:VEVENT
DTSTART;TZID=UTC:20200924T180000
DTEND;TZID=UTC:20200924T180000
DTSTAMP:20260422T144220
CREATED:20210601T193235Z
LAST-MODIFIED:20210603T004105Z
UID:7012-1600970400-1600970400@newportirishhistory.org
SUMMARY:Steve Marino\, "Here's the church\, here's the steeple\, open the door and see all the people: Newport's early Irish community and Rhode Island's first Catholic church."
DESCRIPTION:[vc_row][vc_column width=”1/6″][/vc_column][vc_column width=”2/3″][vc_video link=”https://www.youtube.com/watch?v=2W8xk0zs3iY”][/vc_column][vc_column width=”1/6″][/vc_column][/vc_row][vc_row][vc_column]The 1820s were tough times for Newport. No longer was the harbor the international entrepôt that it had been during the colonial era. The mills along Thames Street were yet to be built and summer visitors were scarce. Yet\, in 1828 Benedict Fenwick\, Bishop of Boston\, procured a lot of land with a schoolhouse on Barney Street in Newport\, thus creating Rhode Island’s first Catholic Church. There is a great deal of mystery and controversy surrounding this schoolhouse/church but the church and the individuals that worshiped in it\, would inevitably change the course of Newport History. \nWith the help of sacramental records\, contemporary newspapers and genealogical sources\, we will attempt to shed some light on the early history of the Newport Irish community. \nSTEVE MARINO taught history in Connecticut for 35 years and retired to Newport. He has been giving tours at Fort Adams since 2008. He is also on the Board of the Museum of Newport Irish History. Steve holds degrees from Williams College\, Brown University and the Hartford Seminary. This is Steve’s third presentation to our membership. \n[/vc_column][/vc_row]
URL:https://newportirishhistory.org/event/steve-marino-heres-the-church-heres-the-steeple-open-the-door-and-see-all-the-people-newports-early-irish-community-and-rhode-islands-first-catholic-church/
CATEGORIES:2020-2021 Series (19th Annual),Lectures
END:VEVENT
END:VCALENDAR