BEGIN:VCALENDAR
VERSION:2.0
PRODID:-//Museum of Newport Irish History | Newport, Rhode Island - ECPv6.15.20//NONSGML v1.0//EN
CALSCALE:GREGORIAN
METHOD:PUBLISH
X-WR-CALNAME:Museum of Newport Irish History | Newport, Rhode Island
X-ORIGINAL-URL:https://newportirishhistory.org
X-WR-CALDESC:Events for Museum of Newport Irish History | Newport, Rhode Island
REFRESH-INTERVAL;VALUE=DURATION:PT1H
X-Robots-Tag:noindex
X-PUBLISHED-TTL:PT1H
BEGIN:VTIMEZONE
TZID:UTC
BEGIN:STANDARD
TZOFFSETFROM:+0000
TZOFFSETTO:+0000
TZNAME:UTC
DTSTART:20200101T000000
END:STANDARD
END:VTIMEZONE
BEGIN:VEVENT
DTSTART;TZID=UTC:20210210T180000
DTEND;TZID=UTC:20210210T180000
DTSTAMP:20260422T202055
CREATED:20210601T190659Z
LAST-MODIFIED:20210615T185128Z
UID:7008-1612980000-1612980000@newportirishhistory.org
SUMMARY:Erik J. Chaput\, PhD\, "Politics\, Bigotry and Nativism: Rhode Island's Catholic Irish in the 1842 Dorr Rebellion"
DESCRIPTION:[vc_row][vc_column width=”1/6″][/vc_column][vc_column width=”2/3″][vc_video link=”https://www.youtube.com/watch?v=UoN0RpDd1Lw”][/vc_column][vc_column width=”1/6″][/vc_column][/vc_row][vc_row][vc_column]Dr. Erik J. Chaput will discuss the life of Thomas Wilson Dorr and the 1842 rebellion in Rhode Island that bears his name. In his talk\, Dr. Chaput will devote particular attention to issues of gender\, race and religion\, especially the profound role anti-Catholic sentiment and anti-immigrant bigotry played in the spring and summer of 1842. Dr. Chaput’s talk will spotlight the social\, labor and political environment in which Irish immigrants in Rhode Island lived and worked during this era. Dr. Chaput will also address the profound national ramifications of Dorr’s attempt at extra-legal reform. \n(For background on the Dorr Rebellion\, see the short documentary film on the Dorr Rebellion Project website\, hosted by Providence College Library website: library.providence.edu/dorr ) \nERIK J. CHAPUT received his doctorate in early American History from the Maxwell School of Citizenship and Public Affairs at Syracuse University. Dr. Chaput is a frequent contributor to opinion and book review pages of the Providence Journal. He is the author of The People’s Martyr: Thomas Wilson Dorr and His 1842 Rhode Island Rebellion (University Press of Kansas\, 2013). A native Rhode Islander and Providence College graduate\, Professor Chaput teaches American history in the School of Continuing Education at PC and at the Lawrenceville School in New Jersey. Professor Chaput’s research has appeared in numerous publications\, including Reviews in American History\, Rhode Island History\, Common-Place\, American Nineteenth Century History\, The New England Quarterly\, Newport History\, U.S. Catholic Historian\, The Catholic Historical Review\, Historical New Hampshire\, and the Historical Journal of Massachusetts. He has edited a teaching document on Rhode Island and the Establishment Clause for secondary educators. He is the co-editor with Russell J. DeSimone of a digital edition of the letters of Thomas Wilson Dorr. The letters are available on the Dorr Rebellion Project Site hosted by Providence College. \n[/vc_column][/vc_row]
URL:https://newportirishhistory.org/event/erik-j-chaput-phd-politics-bigotry-and-nativism-rhode-islands-catholic-irish-in-the-1842-dorr-rebellion/
CATEGORIES:2020-2021 Series (19th Annual),Lectures
END:VEVENT
END:VCALENDAR